BEGIN:VCALENDAR
VERSION:2.0
PRODID:-//Northwest Wesley Center - ECPv6.15.15//NONSGML v1.0//EN
CALSCALE:GREGORIAN
METHOD:PUBLISH
X-WR-CALNAME:Northwest Wesley Center
X-ORIGINAL-URL:https://northwestwesley.com
X-WR-CALDESC:Events for Northwest Wesley Center
REFRESH-INTERVAL;VALUE=DURATION:PT1H
X-Robots-Tag:noindex
X-PUBLISHED-TTL:PT1H
BEGIN:VTIMEZONE
TZID:America/Chicago
BEGIN:DAYLIGHT
TZOFFSETFROM:-0600
TZOFFSETTO:-0500
TZNAME:CDT
DTSTART:20230312T080000
END:DAYLIGHT
BEGIN:STANDARD
TZOFFSETFROM:-0500
TZOFFSETTO:-0600
TZNAME:CST
DTSTART:20231105T070000
END:STANDARD
BEGIN:DAYLIGHT
TZOFFSETFROM:-0600
TZOFFSETTO:-0500
TZNAME:CDT
DTSTART:20240310T080000
END:DAYLIGHT
BEGIN:STANDARD
TZOFFSETFROM:-0500
TZOFFSETTO:-0600
TZNAME:CST
DTSTART:20241103T070000
END:STANDARD
BEGIN:DAYLIGHT
TZOFFSETFROM:-0600
TZOFFSETTO:-0500
TZNAME:CDT
DTSTART:20250309T080000
END:DAYLIGHT
BEGIN:STANDARD
TZOFFSETFROM:-0500
TZOFFSETTO:-0600
TZNAME:CST
DTSTART:20251102T070000
END:STANDARD
BEGIN:DAYLIGHT
TZOFFSETFROM:-0600
TZOFFSETTO:-0500
TZNAME:CDT
DTSTART:20260308T080000
END:DAYLIGHT
BEGIN:STANDARD
TZOFFSETFROM:-0500
TZOFFSETTO:-0600
TZNAME:CST
DTSTART:20261101T070000
END:STANDARD
END:VTIMEZONE
BEGIN:VEVENT
DTSTART;TZID=America/Chicago:20240904T140000
DTEND;TZID=America/Chicago:20241204T150000
DTSTAMP:20260422T135521
CREATED:20240819T144504Z
LAST-MODIFIED:20240819T144504Z
UID:10001118-1725458400-1733324400@northwestwesley.com
SUMMARY:Small Group Bible Study
DESCRIPTION:
URL:https://northwestwesley.com/index.php/event/small-group-bible-study/2024-09-04/
LOCATION:Wesley Center\, 549 West 4th Street\, Maryville\, MO\, 64468\, United States
END:VEVENT
BEGIN:VEVENT
DTSTART;TZID=America/Chicago:20240904T170000
DTEND;TZID=America/Chicago:20241211T190000
DTSTAMP:20260422T135521
CREATED:20240819T145106Z
LAST-MODIFIED:20240819T145106Z
UID:10001224-1725469200-1733943600@northwestwesley.com
SUMMARY:CHoW
DESCRIPTION:
URL:https://northwestwesley.com/index.php/event/chow/2024-09-04/
LOCATION:First United Methodist Church\, 102 N Main Street\, Maryville\, MO\, 64466\, United States
END:VEVENT
BEGIN:VEVENT
DTSTART;TZID=America/Chicago:20240905T170000
DTEND;TZID=America/Chicago:20241205T180000
DTSTAMP:20260422T135521
CREATED:20240819T144643Z
LAST-MODIFIED:20240819T144643Z
UID:10001171-1725555600-1733421600@northwestwesley.com
SUMMARY:Midweek Worship
DESCRIPTION:
URL:https://northwestwesley.com/index.php/event/midweek-worship/2024-09-05/
LOCATION:Wesley Center\, 549 West 4th Street\, Maryville\, MO\, 64468\, United States
END:VEVENT
BEGIN:VEVENT
DTSTART;TZID=America/Chicago:20240911T140000
DTEND;TZID=America/Chicago:20241211T150000
DTSTAMP:20260422T135521
CREATED:20240819T144504Z
LAST-MODIFIED:20240819T144504Z
UID:10001119-1726063200-1733929200@northwestwesley.com
SUMMARY:Small Group Bible Study
DESCRIPTION:
URL:https://northwestwesley.com/index.php/event/small-group-bible-study/2024-09-11/
LOCATION:Wesley Center\, 549 West 4th Street\, Maryville\, MO\, 64468\, United States
END:VEVENT
BEGIN:VEVENT
DTSTART;TZID=America/Chicago:20240911T170000
DTEND;TZID=America/Chicago:20241218T190000
DTSTAMP:20260422T135521
CREATED:20240819T145106Z
LAST-MODIFIED:20240819T145106Z
UID:10001225-1726074000-1734548400@northwestwesley.com
SUMMARY:CHoW
DESCRIPTION:
URL:https://northwestwesley.com/index.php/event/chow/2024-09-11/
LOCATION:First United Methodist Church\, 102 N Main Street\, Maryville\, MO\, 64466\, United States
END:VEVENT
BEGIN:VEVENT
DTSTART;TZID=America/Chicago:20240912T170000
DTEND;TZID=America/Chicago:20241212T180000
DTSTAMP:20260422T135521
CREATED:20240819T144643Z
LAST-MODIFIED:20240819T144643Z
UID:10001172-1726160400-1734026400@northwestwesley.com
SUMMARY:Midweek Worship
DESCRIPTION:
URL:https://northwestwesley.com/index.php/event/midweek-worship/2024-09-12/
LOCATION:Wesley Center\, 549 West 4th Street\, Maryville\, MO\, 64468\, United States
END:VEVENT
BEGIN:VEVENT
DTSTART;TZID=America/Chicago:20240918T140000
DTEND;TZID=America/Chicago:20241218T150000
DTSTAMP:20260422T135521
CREATED:20240819T144504Z
LAST-MODIFIED:20240819T144504Z
UID:10001120-1726668000-1734534000@northwestwesley.com
SUMMARY:Small Group Bible Study
DESCRIPTION:
URL:https://northwestwesley.com/index.php/event/small-group-bible-study/2024-09-18/
LOCATION:Wesley Center\, 549 West 4th Street\, Maryville\, MO\, 64468\, United States
END:VEVENT
BEGIN:VEVENT
DTSTART;TZID=America/Chicago:20240918T170000
DTEND;TZID=America/Chicago:20241225T190000
DTSTAMP:20260422T135521
CREATED:20240819T145106Z
LAST-MODIFIED:20240819T145106Z
UID:10001226-1726678800-1735153200@northwestwesley.com
SUMMARY:CHoW
DESCRIPTION:
URL:https://northwestwesley.com/index.php/event/chow/2024-09-18/
LOCATION:First United Methodist Church\, 102 N Main Street\, Maryville\, MO\, 64466\, United States
END:VEVENT
BEGIN:VEVENT
DTSTART;TZID=America/Chicago:20240919T170000
DTEND;TZID=America/Chicago:20241219T180000
DTSTAMP:20260422T135521
CREATED:20240819T144643Z
LAST-MODIFIED:20240819T144643Z
UID:10001173-1726765200-1734631200@northwestwesley.com
SUMMARY:Midweek Worship
DESCRIPTION:
URL:https://northwestwesley.com/index.php/event/midweek-worship/2024-09-19/
LOCATION:Wesley Center\, 549 West 4th Street\, Maryville\, MO\, 64468\, United States
END:VEVENT
BEGIN:VEVENT
DTSTART;TZID=America/Chicago:20240925T070000
DTEND;TZID=America/Chicago:20240925T080000
DTSTAMP:20260422T135521
CREATED:20240301T161108Z
LAST-MODIFIED:20240301T161108Z
UID:10000554-1727247600-1727251200@northwestwesley.com
SUMMARY:Prayer Group
DESCRIPTION:
URL:https://northwestwesley.com/index.php/event/prayer-group-2/2024-09-25/
LOCATION:MO
END:VEVENT
BEGIN:VEVENT
DTSTART;TZID=America/Chicago:20240925T140000
DTEND;TZID=America/Chicago:20241225T150000
DTSTAMP:20260422T135521
CREATED:20240819T144504Z
LAST-MODIFIED:20240819T144504Z
UID:10001121-1727272800-1735138800@northwestwesley.com
SUMMARY:Small Group Bible Study
DESCRIPTION:
URL:https://northwestwesley.com/index.php/event/small-group-bible-study/2024-09-25/
LOCATION:Wesley Center\, 549 West 4th Street\, Maryville\, MO\, 64468\, United States
END:VEVENT
BEGIN:VEVENT
DTSTART;TZID=America/Chicago:20240925T170000
DTEND;TZID=America/Chicago:20250101T190000
DTSTAMP:20260422T135521
CREATED:20240819T145106Z
LAST-MODIFIED:20240819T145106Z
UID:10001227-1727283600-1735758000@northwestwesley.com
SUMMARY:CHoW
DESCRIPTION:
URL:https://northwestwesley.com/index.php/event/chow/2024-09-25/
LOCATION:First United Methodist Church\, 102 N Main Street\, Maryville\, MO\, 64466\, United States
END:VEVENT
END:VCALENDAR