BEGIN:VCALENDAR
VERSION:2.0
PRODID:-//Northwest Wesley Center - ECPv6.15.15//NONSGML v1.0//EN
CALSCALE:GREGORIAN
METHOD:PUBLISH
X-WR-CALNAME:Northwest Wesley Center
X-ORIGINAL-URL:https://northwestwesley.com
X-WR-CALDESC:Events for Northwest Wesley Center
REFRESH-INTERVAL;VALUE=DURATION:PT1H
X-Robots-Tag:noindex
X-PUBLISHED-TTL:PT1H
BEGIN:VTIMEZONE
TZID:America/Chicago
BEGIN:DAYLIGHT
TZOFFSETFROM:-0600
TZOFFSETTO:-0500
TZNAME:CDT
DTSTART:20260308T080000
END:DAYLIGHT
BEGIN:STANDARD
TZOFFSETFROM:-0500
TZOFFSETTO:-0600
TZNAME:CST
DTSTART:20261101T070000
END:STANDARD
BEGIN:DAYLIGHT
TZOFFSETFROM:-0600
TZOFFSETTO:-0500
TZNAME:CDT
DTSTART:20270314T080000
END:DAYLIGHT
BEGIN:STANDARD
TZOFFSETFROM:-0500
TZOFFSETTO:-0600
TZNAME:CST
DTSTART:20271107T070000
END:STANDARD
BEGIN:DAYLIGHT
TZOFFSETFROM:-0600
TZOFFSETTO:-0500
TZNAME:CDT
DTSTART:20280312T080000
END:DAYLIGHT
BEGIN:STANDARD
TZOFFSETFROM:-0500
TZOFFSETTO:-0600
TZNAME:CST
DTSTART:20281105T070000
END:STANDARD
END:VTIMEZONE
BEGIN:VEVENT
DTSTART;TZID=America/Chicago:20270201T121500
DTEND;TZID=America/Chicago:20270201T131500
DTSTAMP:20260425T162049
CREATED:20240301T161020Z
LAST-MODIFIED:20240301T161020Z
UID:10000307-1801484100-1801487700@northwestwesley.com
SUMMARY:A.A.
DESCRIPTION:
URL:https://northwestwesley.com/index.php/event/a-a-2/2027-02-01/
LOCATION:MO
END:VEVENT
BEGIN:VEVENT
DTSTART;TZID=America/Chicago:20270203T070000
DTEND;TZID=America/Chicago:20270203T080000
DTSTAMP:20260425T162049
CREATED:20240301T161108Z
LAST-MODIFIED:20240301T161108Z
UID:10000677-1801638000-1801641600@northwestwesley.com
SUMMARY:Prayer Group
DESCRIPTION:
URL:https://northwestwesley.com/index.php/event/prayer-group-2/2027-02-03/
LOCATION:MO
END:VEVENT
BEGIN:VEVENT
DTSTART;TZID=America/Chicago:20270204T121500
DTEND;TZID=America/Chicago:20270204T131500
DTSTAMP:20260425T162049
CREATED:20240301T161020Z
LAST-MODIFIED:20240301T161020Z
UID:10000308-1801743300-1801746900@northwestwesley.com
SUMMARY:A.A.
DESCRIPTION:
URL:https://northwestwesley.com/index.php/event/a-a-2/2027-02-04/
LOCATION:MO
END:VEVENT
BEGIN:VEVENT
DTSTART;TZID=America/Chicago:20270207T110000
DTEND;TZID=America/Chicago:20270207T120000
DTSTAMP:20260425T162049
CREATED:20240520T172008Z
LAST-MODIFIED:20240520T172246Z
UID:10000927-1801998000-1802001600@northwestwesley.com
SUMMARY:Contemporary Service
DESCRIPTION:
URL:https://northwestwesley.com/index.php/event/contemporary-service/2027-02-07/
LOCATION:First United Methodist Church\, 102 N Main Street\, Maryville\, MO\, 64466\, United States
END:VEVENT
BEGIN:VEVENT
DTSTART;TZID=America/Chicago:20270208T121500
DTEND;TZID=America/Chicago:20270208T131500
DTSTAMP:20260425T162049
CREATED:20240301T161020Z
LAST-MODIFIED:20240301T161020Z
UID:10000309-1802088900-1802092500@northwestwesley.com
SUMMARY:A.A.
DESCRIPTION:
URL:https://northwestwesley.com/index.php/event/a-a-2/2027-02-08/
LOCATION:MO
END:VEVENT
BEGIN:VEVENT
DTSTART;TZID=America/Chicago:20270210T070000
DTEND;TZID=America/Chicago:20270210T080000
DTSTAMP:20260425T162049
CREATED:20240301T161108Z
LAST-MODIFIED:20240301T161108Z
UID:10000678-1802242800-1802246400@northwestwesley.com
SUMMARY:Prayer Group
DESCRIPTION:
URL:https://northwestwesley.com/index.php/event/prayer-group-2/2027-02-10/
LOCATION:MO
END:VEVENT
BEGIN:VEVENT
DTSTART;TZID=America/Chicago:20270211T121500
DTEND;TZID=America/Chicago:20270211T131500
DTSTAMP:20260425T162049
CREATED:20240301T161020Z
LAST-MODIFIED:20240301T161020Z
UID:10000310-1802348100-1802351700@northwestwesley.com
SUMMARY:A.A.
DESCRIPTION:
URL:https://northwestwesley.com/index.php/event/a-a-2/2027-02-11/
LOCATION:MO
END:VEVENT
BEGIN:VEVENT
DTSTART;TZID=America/Chicago:20270214T110000
DTEND;TZID=America/Chicago:20270214T120000
DTSTAMP:20260425T162049
CREATED:20240520T172008Z
LAST-MODIFIED:20240520T172246Z
UID:10000928-1802602800-1802606400@northwestwesley.com
SUMMARY:Contemporary Service
DESCRIPTION:
URL:https://northwestwesley.com/index.php/event/contemporary-service/2027-02-14/
LOCATION:First United Methodist Church\, 102 N Main Street\, Maryville\, MO\, 64466\, United States
END:VEVENT
BEGIN:VEVENT
DTSTART;TZID=America/Chicago:20270215T121500
DTEND;TZID=America/Chicago:20270215T131500
DTSTAMP:20260425T162049
CREATED:20240301T161020Z
LAST-MODIFIED:20240301T161020Z
UID:10000311-1802693700-1802697300@northwestwesley.com
SUMMARY:A.A.
DESCRIPTION:
URL:https://northwestwesley.com/index.php/event/a-a-2/2027-02-15/
LOCATION:MO
END:VEVENT
BEGIN:VEVENT
DTSTART;TZID=America/Chicago:20270217T070000
DTEND;TZID=America/Chicago:20270217T080000
DTSTAMP:20260425T162049
CREATED:20240301T161108Z
LAST-MODIFIED:20240301T161108Z
UID:10000679-1802847600-1802851200@northwestwesley.com
SUMMARY:Prayer Group
DESCRIPTION:
URL:https://northwestwesley.com/index.php/event/prayer-group-2/2027-02-17/
LOCATION:MO
END:VEVENT
BEGIN:VEVENT
DTSTART;TZID=America/Chicago:20270218T121500
DTEND;TZID=America/Chicago:20270218T131500
DTSTAMP:20260425T162049
CREATED:20240301T161020Z
LAST-MODIFIED:20240301T161020Z
UID:10000312-1802952900-1802956500@northwestwesley.com
SUMMARY:A.A.
DESCRIPTION:
URL:https://northwestwesley.com/index.php/event/a-a-2/2027-02-18/
LOCATION:MO
END:VEVENT
BEGIN:VEVENT
DTSTART;TZID=America/Chicago:20270221T110000
DTEND;TZID=America/Chicago:20270221T120000
DTSTAMP:20260425T162049
CREATED:20240520T172008Z
LAST-MODIFIED:20240520T172246Z
UID:10000929-1803207600-1803211200@northwestwesley.com
SUMMARY:Contemporary Service
DESCRIPTION:
URL:https://northwestwesley.com/index.php/event/contemporary-service/2027-02-21/
LOCATION:First United Methodist Church\, 102 N Main Street\, Maryville\, MO\, 64466\, United States
END:VEVENT
BEGIN:VEVENT
DTSTART;TZID=America/Chicago:20270222T121500
DTEND;TZID=America/Chicago:20270222T131500
DTSTAMP:20260425T162049
CREATED:20240301T161020Z
LAST-MODIFIED:20240301T161020Z
UID:10000313-1803298500-1803302100@northwestwesley.com
SUMMARY:A.A.
DESCRIPTION:
URL:https://northwestwesley.com/index.php/event/a-a-2/2027-02-22/
LOCATION:MO
END:VEVENT
BEGIN:VEVENT
DTSTART;TZID=America/Chicago:20270224T070000
DTEND;TZID=America/Chicago:20270224T080000
DTSTAMP:20260425T162049
CREATED:20240301T161108Z
LAST-MODIFIED:20240301T161108Z
UID:10000680-1803452400-1803456000@northwestwesley.com
SUMMARY:Prayer Group
DESCRIPTION:
URL:https://northwestwesley.com/index.php/event/prayer-group-2/2027-02-24/
LOCATION:MO
END:VEVENT
BEGIN:VEVENT
DTSTART;TZID=America/Chicago:20270225T121500
DTEND;TZID=America/Chicago:20270225T131500
DTSTAMP:20260425T162049
CREATED:20240301T161020Z
LAST-MODIFIED:20240301T161020Z
UID:10000314-1803557700-1803561300@northwestwesley.com
SUMMARY:A.A.
DESCRIPTION:
URL:https://northwestwesley.com/index.php/event/a-a-2/2027-02-25/
LOCATION:MO
END:VEVENT
BEGIN:VEVENT
DTSTART;TZID=America/Chicago:20270228T110000
DTEND;TZID=America/Chicago:20270228T120000
DTSTAMP:20260425T162049
CREATED:20240520T172008Z
LAST-MODIFIED:20240520T172246Z
UID:10000930-1803812400-1803816000@northwestwesley.com
SUMMARY:Contemporary Service
DESCRIPTION:
URL:https://northwestwesley.com/index.php/event/contemporary-service/2027-02-28/
LOCATION:First United Methodist Church\, 102 N Main Street\, Maryville\, MO\, 64466\, United States
END:VEVENT
END:VCALENDAR